BEGIN:VCALENDAR
VERSION:2.0
PRODID:-//Landesjugendwerk der AWO Sachsen-Anhalt e.V. - ECPv6.15.20//NONSGML v1.0//EN
CALSCALE:GREGORIAN
METHOD:PUBLISH
X-ORIGINAL-URL:https://www.awo-jugendwerk-lsa.de/awowp
X-WR-CALDESC:Veranstaltungen für Landesjugendwerk der AWO Sachsen-Anhalt e.V.
REFRESH-INTERVAL;VALUE=DURATION:PT1H
X-Robots-Tag:noindex
X-PUBLISHED-TTL:PT1H
BEGIN:VTIMEZONE
TZID:Europe/Paris
BEGIN:DAYLIGHT
TZOFFSETFROM:+0100
TZOFFSETTO:+0200
TZNAME:CEST
DTSTART:20250330T010000
END:DAYLIGHT
BEGIN:STANDARD
TZOFFSETFROM:+0200
TZOFFSETTO:+0100
TZNAME:CET
DTSTART:20251026T010000
END:STANDARD
BEGIN:DAYLIGHT
TZOFFSETFROM:+0100
TZOFFSETTO:+0200
TZNAME:CEST
DTSTART:20260329T010000
END:DAYLIGHT
BEGIN:STANDARD
TZOFFSETFROM:+0200
TZOFFSETTO:+0100
TZNAME:CET
DTSTART:20261025T010000
END:STANDARD
BEGIN:DAYLIGHT
TZOFFSETFROM:+0100
TZOFFSETTO:+0200
TZNAME:CEST
DTSTART:20270328T010000
END:DAYLIGHT
BEGIN:STANDARD
TZOFFSETFROM:+0200
TZOFFSETTO:+0100
TZNAME:CET
DTSTART:20271031T010000
END:STANDARD
END:VTIMEZONE
BEGIN:VEVENT
DTSTART;TZID=Europe/Paris:20260610T100000
DTEND;TZID=Europe/Paris:20260610T150000
DTSTAMP:20260423T135444
CREATED:20251104T142409Z
LAST-MODIFIED:20251104T142410Z
UID:8066-1781085600-1781103600@www.awo-jugendwerk-lsa.de
SUMMARY:Bildungstag BFDü27
DESCRIPTION:Anmeldung
URL:https://www.awo-jugendwerk-lsa.de/awowp/event/bildungstag-bfdue27-6/
END:VEVENT
BEGIN:VEVENT
DTSTART;TZID=Europe/Paris:20260624T100000
DTEND;TZID=Europe/Paris:20260624T150000
DTSTAMP:20260423T135444
CREATED:20251104T142652Z
LAST-MODIFIED:20251104T142654Z
UID:8068-1782295200-1782313200@www.awo-jugendwerk-lsa.de
SUMMARY:Bildungstag BFDü27
DESCRIPTION:Anmeldung
URL:https://www.awo-jugendwerk-lsa.de/awowp/event/bildungstag-bfdue27-7/
END:VEVENT
END:VCALENDAR