BEGIN:VCALENDAR
VERSION:2.0
PRODID:-//Landesjugendwerk der AWO Sachsen-Anhalt e.V. - ECPv6.15.20//NONSGML v1.0//EN
CALSCALE:GREGORIAN
METHOD:PUBLISH
X-WR-CALNAME:Landesjugendwerk der AWO Sachsen-Anhalt e.V.
X-ORIGINAL-URL:https://www.awo-jugendwerk-lsa.de/awowp
X-WR-CALDESC:Veranstaltungen für Landesjugendwerk der AWO Sachsen-Anhalt e.V.
REFRESH-INTERVAL;VALUE=DURATION:PT1H
X-Robots-Tag:noindex
X-PUBLISHED-TTL:PT1H
BEGIN:VTIMEZONE
TZID:Europe/Paris
BEGIN:DAYLIGHT
TZOFFSETFROM:+0100
TZOFFSETTO:+0200
TZNAME:CEST
DTSTART:20240331T010000
END:DAYLIGHT
BEGIN:STANDARD
TZOFFSETFROM:+0200
TZOFFSETTO:+0100
TZNAME:CET
DTSTART:20241027T010000
END:STANDARD
BEGIN:DAYLIGHT
TZOFFSETFROM:+0100
TZOFFSETTO:+0200
TZNAME:CEST
DTSTART:20250330T010000
END:DAYLIGHT
BEGIN:STANDARD
TZOFFSETFROM:+0200
TZOFFSETTO:+0100
TZNAME:CET
DTSTART:20251026T010000
END:STANDARD
BEGIN:DAYLIGHT
TZOFFSETFROM:+0100
TZOFFSETTO:+0200
TZNAME:CEST
DTSTART:20260329T010000
END:DAYLIGHT
BEGIN:STANDARD
TZOFFSETFROM:+0200
TZOFFSETTO:+0100
TZNAME:CET
DTSTART:20261025T010000
END:STANDARD
END:VTIMEZONE
BEGIN:VEVENT
DTSTART;TZID=Europe/Paris:20251013T000000
DTEND;TZID=Europe/Paris:20251017T235959
DTSTAMP:20260423T201752
CREATED:20250203T115604Z
LAST-MODIFIED:20250812T114923Z
UID:7789-1760313600-1760745599@www.awo-jugendwerk-lsa.de
SUMMARY:Du in der Wildnis - Naturerlebniswoche
DESCRIPTION:Wir laden dich ein mit uns die Plätze ums Lagerfeuer zu füllen. In dieser Woche wollen wir uns nicht nur auf die Spuren der wilden Survivalkünstler begeben. Uns werden auch Traditionen und Wissen indigener Völker begegnen und in dieser Woche begleiten.  \n\n\n\nWolltest du schon immer mal in die Fußstapfen von Fritz Meinecke treten? Dann bist du hier genau richtig!  \n\n\n\nNeben Wissen zu unserer heimischen Tier- und Pflanzenwelt lernst du in dieser Woche Tipps und Tricks für das Überleben in der Wildnis. Denn hierzu gehört deutlich mehr als gute Ausrüstung! Natürlich werden wir gut versorgt und haben auf dem Jugendbauernhof auch alle ein warmes Bett. Den Tag wollen wir aber vorrangig draußen verbringen. Ein steter Begleiter wird hier das Lagerfeuer als Treffpunkt und wärmende Stelle für Pausen sein. Was du unbedingt brauchst ist wetterfeste und warme Kleidung! Den Rest organisieren wir. \n\n\n\n  \n\n\n\nWann:in den Herbstferien vom13. – 17. Oktober 2025(Montag – Freitag) \n\n\n\nWo:Europajugendbauernhof DeetzKurze Ende 439264 Zerbst(Anhalt) Ortsteil Deetz \n\n\n\nInformationen zur Unterkunft findet ihrauch im Internet unter:https://www.herberge-zerbst.de/ \n\n\n\nWer:Kinder und Jugendlichezwischen 10 und 16 Jahren \n\n\n\nWieviel:60\,- Euro(Preis enthält Übernachtung\, Verpflegung\,Material und Honorar für die Referent*innen) \n\n\n\nZur Zeit ist die Fahrt voll belegt. Sie können ihr Kind gerne trotzdem über unsere Anmeldeplattform für die Warteliste anmelden.  \n\n\n\nAnmeldungen bitte bis spätestens01.09.2025 über unser Anmeldeformular: \n\n\n\n\nJETZT ANMELDEN
URL:https://www.awo-jugendwerk-lsa.de/awowp/event/7789/
END:VEVENT
BEGIN:VEVENT
DTSTART;TZID=Europe/Paris:20251013T080000
DTEND;TZID=Europe/Paris:20251017T180000
DTSTAMP:20260423T201752
CREATED:20250721T113439Z
LAST-MODIFIED:20250721T115946Z
UID:7966-1760342400-1760724000@www.awo-jugendwerk-lsa.de
SUMMARY:Gedenkstättenfahrt Sachsenhausen
DESCRIPTION:In der heutigen Gedenk- und Bildungsstätte „Haus der Wannsee-Konferenz“ besprachen am 20. Januar 1942 fünfzehn hochrangige Vertreter der SS\, der NSDAP und verschiedener Reichsministerien die Kooperation bei der geplanten Deportation und Ermordung der europäischen Jüdinnen und Juden. \nDas Gelände der heutigen Gedenkstätte Sachsenhausen war in der Zeit von 1936 bis 1945 eines der größten Konzentrationslager auf deutschem Reichsgebiet.Im Rahmen der geplanten Studienfahrt werden wir diesen Gedenk- und Erinnerungsort besuchen. Wir werden uns in der Gedenkstätte Sachsenhausen an drei Tagen ausführlich mit der Geschichte des Konzentrationslagers auseinandersetzen und an die Opfer nationalsozialistischer Verbrechen erinnern. \nAußerdem planen wir eine intensive Vor- und Nachbereitung des Besuchs. \n  \n\n\n\nWann? \n 13 – 17. Oktober 2025 \n(Montag – Freitag) \n  \nWo? \nOranienburg/ Gedenkstätte und Museum Sachsenhausen (Unterbringung im B&B Oranjehus Oranienburg) \n————————- \nVoraussetzung für die Teilnahme an der Fahrt ist der Besuch der Vorbereitungstreffen. \n  \nWer? \nJugendliche und junge Erwachsenen im Alter zwischen 15 und 27 Jahren \n  \nWieviel? \n55\,00 Euro \n(Preis enthält Übernachtung\, Verpflegung\, Fahrtkosten\, Material\, Eintrittsgelder und Honorar für Referent*innen) \n\n\n\nAnmeldungen bis \nspätestens 22.08.2025 an: \nBildung@AWO-Jugendwerk-LSA.de \nTel.:  0391-40 82 90 90 Handy / Messenger: 01515 – 8736612 \n  \nLandesjugendwerk der AWO  \nSachsen-Anhalt e.V. \nSchönebecker Straße 82- 84 \n39104 Magdeburg \n  \nHauptverantwortlich für die Planung und Durchführung der Gedenkstättenfahrtist unsere Jugendbildungsreferentin \nNicole Krökel. \n  \nNach der Anmeldung versenden wir eine Bestätigung sowie weitere Informationen zu dieser Veranstaltung. \n  \nBitte den Teilnehmer*innenbeitrag von 55\,00 € auf folgendes Konto überweisen: \nLandesjugendwerk der AWO LSA \nIBAN: DE93 8105 3272 0030 3712 87 \nBIC: NOLADE21MDG \nStadtsparkasse Magdeburg \nBetreff: Dein Name + Gedenkstättenfahrt 10-2025
URL:https://www.awo-jugendwerk-lsa.de/awowp/event/gedenkstaettenfahrt-sachsenhausen/
END:VEVENT
BEGIN:VEVENT
DTSTART;TZID=Europe/Paris:20251024T080000
DTEND;TZID=Europe/Paris:20251024T170000
DTSTAMP:20260423T201752
CREATED:20250807T090936Z
LAST-MODIFIED:20251104T125552Z
UID:7983-1761292800-1761325200@www.awo-jugendwerk-lsa.de
SUMMARY:Juleica Grundkurs
DESCRIPTION:  \n\n\n\n\n\n\n\nWas dich erwartet:  \n\n\n\nDie Juleica ist ein bundesweit anerkannter Qualifizierungsnachweis für ehrenamtliche Mitarbeiter*innen in der Kinder- und Jugendarbeit. Im Grundkurs werden an zwei Wochenenden Kenntnisse zu folgenden Themen vermittelt:  \n\n\n\n\n Aufgaben und Funktionen der Jugendleiter*innen und Befähigung zur Leitung von Gruppen \n\n\n\n\n\nPsychologische und pädagogische Grundlagen für die Arbeit mit Kindern und Jugendlichen \n\n\n\n\n\nPsychologische Erste Hilfe \n\n\n\n\n\nKennenlernen von Gruppenspielen und Methoden \n\n\n\n\n\nJugendschutz und Gewaltprävention \n\n\n\n\n\nJugendkulturen\, Diversität und Inklusion \n\n\n\n\n\nProjektplanung \n\n\n\n\n\nUmgang mit grenzüberschreitendem Verhalten bei Ferienfreizeiten \n\n\n\n\n\nStrukturen der Jugendverbandsarbeit in Sachsen-Anhalt \n\n\n\n\nWann: Teil 1: 24.10. – 26.10.25 Teil 2: 07.11. – 09.11.25  \n\n\n\nWo: Landesjugendwerk der AWO Schönebecker Str. 82-84 39104 Magdeburg  \n\n\n\nWer: Alle interessierten Personen ab 16 Jahren.  \n\n\n\nWieviel: 20\,- Euro  \n\n\n\nDie Schulung ist ohne Übernachtung geplant. Bei Bedarf kann jedoch eine Übernachtungsmöglichkeit (Jugendherberge) organisiert werden.  \n\n\n\nAnmeldung: \n\n\n\nbis spätestens 19.09.2025 unter: Bildung@AWO-Jugendwerk-LSA.de  \n\n\n\noder  \n\n\n\n0151-62703260 (gern auch per WhatsApp oder Signal)  \n\n\n\nLandesjugendwerk der AWO Sachsen-Anhalt e.V. Schönebecker Straße 82- 84 39104 Magdeburg  \n\n\n\nNach der Anmeldung versenden wir eine Bestätigung sowie weitere Informationen.  \n\n\n\nHauptverantwortlich für die Planung und Durchführung der Veranstaltung ist unsere Jugendbildungsreferentin Kirsten Vogt.  \n\n\n\nWeitere Informationen zur Juleica findet ihr unter www.juleica.de  \n\n\n\nAnmeldungen über unser Anmeldeformular: \n\n\n\n\nJETZT ANMELDEN\n\n\n\n\n\n\n 
URL:https://www.awo-jugendwerk-lsa.de/awowp/event/juleica-grundkurs/
END:VEVENT
END:VCALENDAR