BEGIN:VCALENDAR
VERSION:2.0
PRODID:-//Landesjugendwerk der AWO Sachsen-Anhalt e.V. - ECPv6.15.20//NONSGML v1.0//EN
CALSCALE:GREGORIAN
METHOD:PUBLISH
X-ORIGINAL-URL:https://www.awo-jugendwerk-lsa.de/awowp
X-WR-CALDESC:Veranstaltungen für Landesjugendwerk der AWO Sachsen-Anhalt e.V.
REFRESH-INTERVAL;VALUE=DURATION:PT1H
X-Robots-Tag:noindex
X-PUBLISHED-TTL:PT1H
BEGIN:VTIMEZONE
TZID:Europe/Paris
BEGIN:DAYLIGHT
TZOFFSETFROM:+0100
TZOFFSETTO:+0200
TZNAME:CEST
DTSTART:20240331T010000
END:DAYLIGHT
BEGIN:STANDARD
TZOFFSETFROM:+0200
TZOFFSETTO:+0100
TZNAME:CET
DTSTART:20241027T010000
END:STANDARD
BEGIN:DAYLIGHT
TZOFFSETFROM:+0100
TZOFFSETTO:+0200
TZNAME:CEST
DTSTART:20250330T010000
END:DAYLIGHT
BEGIN:STANDARD
TZOFFSETFROM:+0200
TZOFFSETTO:+0100
TZNAME:CET
DTSTART:20251026T010000
END:STANDARD
BEGIN:DAYLIGHT
TZOFFSETFROM:+0100
TZOFFSETTO:+0200
TZNAME:CEST
DTSTART:20260329T010000
END:DAYLIGHT
BEGIN:STANDARD
TZOFFSETFROM:+0200
TZOFFSETTO:+0100
TZNAME:CET
DTSTART:20261025T010000
END:STANDARD
END:VTIMEZONE
BEGIN:VEVENT
DTSTART;TZID=Europe/Paris:20250926T000000
DTEND;TZID=Europe/Paris:20250926T235959
DTSTAMP:20260423T214345
CREATED:20250807T084405Z
LAST-MODIFIED:20250807T085131Z
UID:7975-1758844800-1758931199@www.awo-jugendwerk-lsa.de
SUMMARY:Demokratie erleben -Bildungsfahrt Berlin
DESCRIPTION:Wann:in den Herbstferien vom13. – 17. Oktober 2025(Freitag – Samstag) \n\n\n\nWo:Berlin \n\n\n\n \n\n\n\nWer:Kinder und Jugendlichezwischen 14 und 16 Jahren \n\n\n\nWieviel:15 Euro \n\n\n\nAnmeldungen bitte bis spätestens01.09.2025 über unser Anmeldeformular: \n\n\n\n\nJETZT ANMELDEN
URL:https://www.awo-jugendwerk-lsa.de/awowp/event/bildungsfahrt-berlin/
END:VEVENT
END:VCALENDAR