BEGIN:VCALENDAR
VERSION:2.0
PRODID:-//Landesjugendwerk der AWO Sachsen-Anhalt e.V. - ECPv6.15.20//NONSGML v1.0//EN
CALSCALE:GREGORIAN
METHOD:PUBLISH
X-ORIGINAL-URL:https://www.awo-jugendwerk-lsa.de/awowp
X-WR-CALDESC:Veranstaltungen für Landesjugendwerk der AWO Sachsen-Anhalt e.V.
REFRESH-INTERVAL;VALUE=DURATION:PT1H
X-Robots-Tag:noindex
X-PUBLISHED-TTL:PT1H
BEGIN:VTIMEZONE
TZID:Europe/Paris
BEGIN:DAYLIGHT
TZOFFSETFROM:+0100
TZOFFSETTO:+0200
TZNAME:CEST
DTSTART:20240331T010000
END:DAYLIGHT
BEGIN:STANDARD
TZOFFSETFROM:+0200
TZOFFSETTO:+0100
TZNAME:CET
DTSTART:20241027T010000
END:STANDARD
BEGIN:DAYLIGHT
TZOFFSETFROM:+0100
TZOFFSETTO:+0200
TZNAME:CEST
DTSTART:20250330T010000
END:DAYLIGHT
BEGIN:STANDARD
TZOFFSETFROM:+0200
TZOFFSETTO:+0100
TZNAME:CET
DTSTART:20251026T010000
END:STANDARD
BEGIN:DAYLIGHT
TZOFFSETFROM:+0100
TZOFFSETTO:+0200
TZNAME:CEST
DTSTART:20260329T010000
END:DAYLIGHT
BEGIN:STANDARD
TZOFFSETFROM:+0200
TZOFFSETTO:+0100
TZNAME:CET
DTSTART:20261025T010000
END:STANDARD
END:VTIMEZONE
BEGIN:VEVENT
DTSTART;TZID=Europe/Paris:20250822T140000
DTEND;TZID=Europe/Paris:20250824T130000
DTSTAMP:20260423T230148
CREATED:20250515T084409Z
LAST-MODIFIED:20250519T121318Z
UID:7906-1755871200-1756040400@www.awo-jugendwerk-lsa.de
SUMMARY:Firefly - Zirkus-\, Jonglier- und POI-Convention
DESCRIPTION:Als Landesjugendwerk der AWO Sachsen- Anhalt e.V. möchten allen begeisterten Zirkusartist*innen\, Jongleur*innen und Poi- Spieler*innen die Möglichkeit geben\, sich zu treffen\, auszutauschen und sich gegenseitig neue Tricks beizubringen. Doch auch Anfänger*innen sind willkommen\, grund-legende Figuren und Tricks zu erlernen und an verschiedenen spannenden Workshops teilzunehmen oder auch eigene Workshops selbst anzubieten.  \n\n\n\nBesonderes Highlight der FireFly werden Workshops zum Feuerspiel sowie eine Open Stage am Samstagabend sein.  \n\n\n\n Die FireFly lebt von eurer Beteiligung! Vor Ort wird es eine Workshop-Wand geben\, auf der Teilnehmende eigene Workshops anbieten können. Alle Teilnehmenden sind herzlich eingeladen\, selbst einen Workshop auf der FireFly anzubieten und sich aktiv in das Programm einzubringen!  \n\n\n\n \n\n\n\nOrt:  \n\n\n\nAWO Nachbarschaftstreff Klausenerstraße 17 39112 Magdeburg  \n\n\n\nWer? \n\n\n\nJugendliche und Erwachsene  \n\n\n\nWann?  \n\n\n\n22. – 24. August 2025  \n\n\n\nEine Übernachtung mit Zelt ist nach vorheriger Absprache möglich!  \n\n\n\n \n\n\n\nBeginn:  \n\n\n\nFreitag\, 22. August 14.00 – 22.00 Uhr Samstag\, 23. August 10.00 – 22.00 Uhr Sonntag\, 24. August 10.00 – 13.00 Uhr  \n\n\n\n \n\n\n\nTeilnahmebeitrag:  \n\n\n\nEinzelner Tag: 10\,00 Euro Freitag bis Sonntag: 15\,00 Euro (5/10 Euro Erm. FSJ/BFD/Studis) Kinder bis 16 Jahren kostenlos  \n\n\n\nGgf. kann aufgrund besonderer Lebensumstände auf den Teilnahmebeitrag verzichtet werden.  \n\n\n\n \n\n\n\nHauptverantwortlich für die Planung und Durchführung der FireFly sind unsere Jugendbildungsreferent*innen  \n\n\n\nCarina Lederich\, Benjamin Kant und Kirsten Vogt  \n\n\n\nDu kannst dich am besten per E-Mail anmelden oder per Telefon: C.Lederich@AWO-Jugendwerk-LSA.de  \n\n\n\nTel: 0391-40 82 90 90  \n\n\n\nFax: 0391-40 82 458  \n\n\n\nNach der Anmeldung versenden wir eine Bestätigung sowie weitere Informationen zu dieser Veranstaltung.  \n\n\n\nWeitere Informationen findet  ihr ins unserem Flyer. \n\n\n\n\nJETZT ANMELDEN
URL:https://www.awo-jugendwerk-lsa.de/awowp/event/firefly-zirkus-jonglier-und-poi-convention/
END:VEVENT
END:VCALENDAR