BEGIN:VCALENDAR
VERSION:2.0
PRODID:-//Landesjugendwerk der AWO Sachsen-Anhalt e.V. - ECPv6.15.20//NONSGML v1.0//EN
CALSCALE:GREGORIAN
METHOD:PUBLISH
X-ORIGINAL-URL:https://www.awo-jugendwerk-lsa.de/awowp
X-WR-CALDESC:Veranstaltungen für Landesjugendwerk der AWO Sachsen-Anhalt e.V.
REFRESH-INTERVAL;VALUE=DURATION:PT1H
X-Robots-Tag:noindex
X-PUBLISHED-TTL:PT1H
BEGIN:VTIMEZONE
TZID:Europe/Paris
BEGIN:DAYLIGHT
TZOFFSETFROM:+0100
TZOFFSETTO:+0200
TZNAME:CEST
DTSTART:20240331T010000
END:DAYLIGHT
BEGIN:STANDARD
TZOFFSETFROM:+0200
TZOFFSETTO:+0100
TZNAME:CET
DTSTART:20241027T010000
END:STANDARD
BEGIN:DAYLIGHT
TZOFFSETFROM:+0100
TZOFFSETTO:+0200
TZNAME:CEST
DTSTART:20250330T010000
END:DAYLIGHT
BEGIN:STANDARD
TZOFFSETFROM:+0200
TZOFFSETTO:+0100
TZNAME:CET
DTSTART:20251026T010000
END:STANDARD
BEGIN:DAYLIGHT
TZOFFSETFROM:+0100
TZOFFSETTO:+0200
TZNAME:CEST
DTSTART:20260329T010000
END:DAYLIGHT
BEGIN:STANDARD
TZOFFSETFROM:+0200
TZOFFSETTO:+0100
TZNAME:CET
DTSTART:20261025T010000
END:STANDARD
END:VTIMEZONE
BEGIN:VEVENT
DTSTART;TZID=Europe/Paris:20250630T150000
DTEND;TZID=Europe/Paris:20250705T110000
DTSTAMP:20260424T000553
CREATED:20241219T090555Z
LAST-MODIFIED:20250513T084350Z
UID:7740-1751295600-1751713200@www.awo-jugendwerk-lsa.de
SUMMARY:Kinder- und Jugendrepublik
DESCRIPTION:Im Sommer 2024 (23.06-29.06.2024) wird das Landesjugendwerk der AWO Sachsen-Anhalt e.V. in Anlehnung an die Kinderrepubliken der Arbeiterbewegung in den 1920er Jahren auf dem Zeltplatz Friedensau eine einwöchige Kinder- und Jugendrepublik durchführen. \n\n\n\nKinderrepubliken wurden in den 1920er Jahren von Teilen der „Sozialdemokratischen Familie“ durchgeführt. Grundgedanke dieser Kinderrepubliken war es\, mit Kindern und Jugendlichen die Funktionsweise von demokratischen Staaten und einfachem Zusammenleben praktisch einzuüben. Die Kinder und Jugendlichen verwalteten das Zusammenleben und die Abläufe in Zeltlagern außerhalb der großen Städte weitestgehend selbstbestimmt. \n\n\n\nIm Rahmen unserer Kinderrepublik werdenden Kindern die Möglichkeiten der Beteiligung aufgezeigt\, damit sie in kleinem Rahmen das „sich einmischen“ üben können. \n\n\n\nSo können sie das Selbstbewusstsein und den Mut erlangen\, sich auch in der realen Gesellschaft einzubringen und ihre Rechte einzufordern. \n\n\n\nDiese einzigartigen Partizipationsmöglichkeiten können die meisten Kinder sonst (z.B. in der Schule oder im Alltag) nicht wahrnehmen. In der Kinder- und Jugendrepublik können sie erfahren\, wie es ist\, wenn man ein aktives Miteinander gestaltet und sich durch diese Erfahrung persönlich weiterentwickelt. \n\n\n\n Wann: \n\n\n\nin den Sommerferien vom \n\n\n\n30.06. – 5.7.2024 \n\n\n\n(Montag – Samstag) \n\n\n\n \n\n\n\nWo: \n\n\n\nKinder- und \n\n\n\nJugendzeltplatz Friedensau \n\n\n\n(Unterbringung in Zelten) \n\n\n\nInformationen zu Friedensau findet ihr \n\n\n\nauch im Internet unter: \n\n\n\nwww.zeltplatz-friedensau.de \n\n\n\n \n\n\n\nWer: \n\n\n\nKinder und Jugendliche \n\n\n\nzwischen 10 und 16 Jahren \n\n\n\n \n\n\n\nWieviel: \n\n\n\n60\,- Euro \n\n\n\n(Preis enthält Übernachtung\, Verpflegung\, \n\n\n\nMaterial und Honorar für die Referent*innen) \n\n\n\n \n\n\n\nNach der Anmeldung versenden wir eine Bestätigung sowie weitere Informationen zu dieser Veranstaltung. \n\n\n\nWeitere Informationen findet ihr in unserem Flyer. \n\n\n\n\nJETZT ANMELDEN\n\n\n\n\n 
URL:https://www.awo-jugendwerk-lsa.de/awowp/event/kinder-und-jugendrepublik-3/
END:VEVENT
BEGIN:VEVENT
DTSTART;TZID=Europe/Paris:20250721T000000
DTEND;TZID=Europe/Paris:20250725T235959
DTSTAMP:20260424T000553
CREATED:20250602T091637Z
LAST-MODIFIED:20250602T092609Z
UID:7945-1753056000-1753487999@www.awo-jugendwerk-lsa.de
SUMMARY:Probier`s mal aus! Erlebniswoche 
DESCRIPTION:Was dich erwartet:  \n\n\n\nDu wolltest schon immer mal mit Pfeil und Bogen schießen? Oder Jonglieren lernen? Und was ist eigentlich Geocaching? Das sind nur einige Dinge\, die du in dieser spannenden Ferienwoche ausprobieren kannst. Jeder Tag steht unter einem anderen Motto. Von Natur\, über Kreativität bis Zirkus ist für Alle etwas dabei.  \n\n\n\nWann? 21.07.25 – 25.07.25 (jeweils 9 – 15 Uhr) \n\n\n\nWer? Für Kinder zwischen 7 und 12 Jahren (Montag bis Freitag jeweils 9 bis 15 Uhr)  \n\n\n\nWo? Im Ökozentrum Magdeburg Harsdorfer Str. 49  \n\n\n\nWieviel? 20\,00 Euro \n\n\n\nNach der Anmeldung versenden wir eine Bestätigung sowie weitere Informationen zu dieser Veranstaltung. \n\n\n\nWeitere Informationen findet ihr in unserem Flyer. \n\n\n\nJETZT ANMELDEN
URL:https://www.awo-jugendwerk-lsa.de/awowp/event/probiers-mal-aus-erlebniswoche/
END:VEVENT
END:VCALENDAR