BEGIN:VCALENDAR
VERSION:2.0
PRODID:-//Landesjugendwerk der AWO Sachsen-Anhalt e.V. - ECPv6.15.20//NONSGML v1.0//EN
CALSCALE:GREGORIAN
METHOD:PUBLISH
X-ORIGINAL-URL:https://www.awo-jugendwerk-lsa.de/awowp
X-WR-CALDESC:Veranstaltungen für Landesjugendwerk der AWO Sachsen-Anhalt e.V.
REFRESH-INTERVAL;VALUE=DURATION:PT1H
X-Robots-Tag:noindex
X-PUBLISHED-TTL:PT1H
BEGIN:VTIMEZONE
TZID:Europe/Paris
BEGIN:DAYLIGHT
TZOFFSETFROM:+0100
TZOFFSETTO:+0200
TZNAME:CEST
DTSTART:20240331T010000
END:DAYLIGHT
BEGIN:STANDARD
TZOFFSETFROM:+0200
TZOFFSETTO:+0100
TZNAME:CET
DTSTART:20241027T010000
END:STANDARD
BEGIN:DAYLIGHT
TZOFFSETFROM:+0100
TZOFFSETTO:+0200
TZNAME:CEST
DTSTART:20250330T010000
END:DAYLIGHT
BEGIN:STANDARD
TZOFFSETFROM:+0200
TZOFFSETTO:+0100
TZNAME:CET
DTSTART:20251026T010000
END:STANDARD
BEGIN:DAYLIGHT
TZOFFSETFROM:+0100
TZOFFSETTO:+0200
TZNAME:CEST
DTSTART:20260329T010000
END:DAYLIGHT
BEGIN:STANDARD
TZOFFSETFROM:+0200
TZOFFSETTO:+0100
TZNAME:CET
DTSTART:20261025T010000
END:STANDARD
END:VTIMEZONE
BEGIN:VEVENT
DTSTART;TZID=Europe/Paris:20250407T130000
DTEND;TZID=Europe/Paris:20250411T140000
DTSTAMP:20260424T035953
CREATED:20241219T082309Z
LAST-MODIFIED:20250117T091013Z
UID:7706-1744030800-1744380000@www.awo-jugendwerk-lsa.de
SUMMARY:Umwelt- und Kreativwoche in Wernigerode
DESCRIPTION:Du hast für die Osterferien noch keinen Plan und wolltest deine Ferien schon immer mal mit coolen Leuten und tollen Aktivitäten verbringen?  \n\n\n\nDu bist neugierig auf den Harz und möchtest wissen\, was dort so alles abgeht?  \n\n\n\nDann komm mit uns zur Ferienfahrt nach Wernigerode\, denn hier kannst du:  \n\n\n\n Wernigerode und seine wichtigsten Sehenswürdigkeiten kennenlernen  \n\n\n\n Einen Wandertag miterleben  \n\n\n\n Nach Wernigerode zum Luftfahrtmuseum  \n\n\n\n Die Feuersteinarena in Schierke besuchen  \n\n\n\n Die Tropfsteinhöhlen Rübeland erkunden \n\n\n\nWann:in den Osterferien vom7.-11. April 2025(Montag – Freitag) \n\n\n\nWo:Jugendherberge Wernigerode Am Eichberg 528855 WernigerodeInformationen zur Unterkunft findet ihrauch im Internet unter:https://www.jugendherberge.de/ jugendherbergen/wernigerode/ \n\n\n\nWer:Kinder und Jugendlichezwischen 10 und 16 Jahren \n\n\n\nWieviel:60\,- Euro(Preis enthält Übernachtung\, Verpflegung\,Material und Honorar für die Referent*innen) \n\n\n\nAnmeldungen bitte bis spätestens15.3.2024 über unser Anmeldeformular: \n\n\n\n\nJETZT ANMELDEN
URL:https://www.awo-jugendwerk-lsa.de/awowp/event/umwelt-und-kreativwoche-in-wernigerode/
END:VEVENT
END:VCALENDAR