BEGIN:VCALENDAR
VERSION:2.0
PRODID:-//Landesjugendwerk der AWO Sachsen-Anhalt e.V. - ECPv6.15.20//NONSGML v1.0//EN
CALSCALE:GREGORIAN
METHOD:PUBLISH
X-WR-CALNAME:Landesjugendwerk der AWO Sachsen-Anhalt e.V.
X-ORIGINAL-URL:https://www.awo-jugendwerk-lsa.de/awowp
X-WR-CALDESC:Veranstaltungen für Landesjugendwerk der AWO Sachsen-Anhalt e.V.
REFRESH-INTERVAL;VALUE=DURATION:PT1H
X-Robots-Tag:noindex
X-PUBLISHED-TTL:PT1H
BEGIN:VTIMEZONE
TZID:Europe/Paris
BEGIN:DAYLIGHT
TZOFFSETFROM:+0100
TZOFFSETTO:+0200
TZNAME:CEST
DTSTART:20230326T010000
END:DAYLIGHT
BEGIN:STANDARD
TZOFFSETFROM:+0200
TZOFFSETTO:+0100
TZNAME:CET
DTSTART:20231029T010000
END:STANDARD
BEGIN:DAYLIGHT
TZOFFSETFROM:+0100
TZOFFSETTO:+0200
TZNAME:CEST
DTSTART:20240331T010000
END:DAYLIGHT
BEGIN:STANDARD
TZOFFSETFROM:+0200
TZOFFSETTO:+0100
TZNAME:CET
DTSTART:20241027T010000
END:STANDARD
BEGIN:DAYLIGHT
TZOFFSETFROM:+0100
TZOFFSETTO:+0200
TZNAME:CEST
DTSTART:20250330T010000
END:DAYLIGHT
BEGIN:STANDARD
TZOFFSETFROM:+0200
TZOFFSETTO:+0100
TZNAME:CET
DTSTART:20251026T010000
END:STANDARD
END:VTIMEZONE
BEGIN:VEVENT
DTSTART;TZID=Europe/Paris:20240930T000000
DTEND;TZID=Europe/Paris:20240930T235959
DTSTAMP:20260424T124553
CREATED:20240905T093315Z
LAST-MODIFIED:20240905T093316Z
UID:7505-1727654400-1727740799@www.awo-jugendwerk-lsa.de
SUMMARY:Kultureller Austausch des Deutschkurses im MGH Schönebeck
DESCRIPTION:Die Teilnehmenden des Deutschkurses laden herzlich zu einem gemeinsamen Essen und kulturellen Austausch ein! Freut euch auf köstliche Speisen und spannende Einblicke in verschiedene Kulturen und Lebensweisen.  \n\n\n\nDatum: 30.09.2024  \n\n\n\nUhrzeit: Ab 12 Uhr  \n\n\n\nOrt: Bahnhofstraße 11/12\, 39218 Schönebeck  \n\n\n\nAnmeldungen an: p.franzelius@awo-jugendwerk-lsa.de
URL:https://www.awo-jugendwerk-lsa.de/awowp/event/kultureller-austausch-des-deutschkurses-im-mgh-schoenebeck/
END:VEVENT
END:VCALENDAR