BEGIN:VCALENDAR
VERSION:2.0
PRODID:-//Landesjugendwerk der AWO Sachsen-Anhalt e.V. - ECPv6.15.20//NONSGML v1.0//EN
CALSCALE:GREGORIAN
METHOD:PUBLISH
X-WR-CALNAME:Landesjugendwerk der AWO Sachsen-Anhalt e.V.
X-ORIGINAL-URL:https://www.awo-jugendwerk-lsa.de/awowp
X-WR-CALDESC:Veranstaltungen für Landesjugendwerk der AWO Sachsen-Anhalt e.V.
REFRESH-INTERVAL;VALUE=DURATION:PT1H
X-Robots-Tag:noindex
X-PUBLISHED-TTL:PT1H
BEGIN:VTIMEZONE
TZID:Europe/Paris
BEGIN:DAYLIGHT
TZOFFSETFROM:+0100
TZOFFSETTO:+0200
TZNAME:CEST
DTSTART:20230326T010000
END:DAYLIGHT
BEGIN:STANDARD
TZOFFSETFROM:+0200
TZOFFSETTO:+0100
TZNAME:CET
DTSTART:20231029T010000
END:STANDARD
BEGIN:DAYLIGHT
TZOFFSETFROM:+0100
TZOFFSETTO:+0200
TZNAME:CEST
DTSTART:20240331T010000
END:DAYLIGHT
BEGIN:STANDARD
TZOFFSETFROM:+0200
TZOFFSETTO:+0100
TZNAME:CET
DTSTART:20241027T010000
END:STANDARD
BEGIN:DAYLIGHT
TZOFFSETFROM:+0100
TZOFFSETTO:+0200
TZNAME:CEST
DTSTART:20250330T010000
END:DAYLIGHT
BEGIN:STANDARD
TZOFFSETFROM:+0200
TZOFFSETTO:+0100
TZNAME:CET
DTSTART:20251026T010000
END:STANDARD
END:VTIMEZONE
BEGIN:VEVENT
DTSTART;TZID=Europe/Paris:20240518T160000
DTEND;TZID=Europe/Paris:20240518T180000
DTSTAMP:20260424T180314
CREATED:20240418T071832Z
LAST-MODIFIED:20240418T072016Z
UID:7267-1716048000-1716055200@www.awo-jugendwerk-lsa.de
SUMMARY:Austauschtreffen im Rahmen des Patenschaftsprogramms Menschen stärken Menschen
DESCRIPTION:Liebe Pat*innen\, \n\n\n\nwir laden euch herzlich zu einem Treffen im Rahmen des Patenschaftsprogramms „Menschen stärken Menschen“ ein.  \n\n\n\nAm 15.05.2024 von 16:00-18:00 Uhr im Landesjugendwerk der AWO\, Schönebeckerstr. 82-84\, 39104 Magdeburg (Eingang über Rennbahnring) möchten wir uns gemeinsam treffen\, um uns besser kennenzulernen und einen offenen Austausch zu führen.Das Ziel dieses Treffens ist es\, über die Herausforderungen und Hürden in eurer ehrenamtlichen Arbeit zu sprechen und zu erfahren\, wie wir euch bestmöglich unterstützen können und es wird einen Input geben.  \n\n\n\nInput zum Thema: \n\n\n\nAufenthaltstitel und damit verbundene Rechte & Pflichten – einfach und prägnant erklärt! \n\n\n\nReferierende:  \n\n\n\nNadine Kobow-Päsler (Teamleitung Jugendmigrationsdienst AWO Kreisverband Magdeburg e.V.) \n\n\n\nWir freuen uns auf einen inspirierenden und produktiven Austausch und hoffen\, dass ihr zahlreich erscheint.  \n\n\n\nEure Erfahrungen und Meinungen sind uns wichtig\, um das Patenschaftsprogramm weiterzuentwickeln und euch optimal unterstützen zu können.Bitte gebt uns bis zum 10.05.2024 Bescheid\, ob ihr an dem Treffen teilnehmen könnt. Bei Fragen könnt ihr euch gerne bei mir per Email melden. \n\n\n\nWir freuen uns darauf\, euch bald persönlich zu treffen! \n\n\n\nE-Mail: P.Franzelius@awo-jugendwerk-lsa.de
URL:https://www.awo-jugendwerk-lsa.de/awowp/event/austauschtreffen-im-rahmen-des-patenschaftsprogramms-menschen-staerken-menschen/
END:VEVENT
END:VCALENDAR