BEGIN:VCALENDAR
VERSION:2.0
PRODID:-//Landesjugendwerk der AWO Sachsen-Anhalt e.V. - ECPv6.15.20//NONSGML v1.0//EN
CALSCALE:GREGORIAN
METHOD:PUBLISH
X-ORIGINAL-URL:https://www.awo-jugendwerk-lsa.de/awowp
X-WR-CALDESC:Veranstaltungen für Landesjugendwerk der AWO Sachsen-Anhalt e.V.
REFRESH-INTERVAL;VALUE=DURATION:PT1H
X-Robots-Tag:noindex
X-PUBLISHED-TTL:PT1H
BEGIN:VTIMEZONE
TZID:Europe/Paris
BEGIN:DAYLIGHT
TZOFFSETFROM:+0100
TZOFFSETTO:+0200
TZNAME:CEST
DTSTART:20230326T010000
END:DAYLIGHT
BEGIN:STANDARD
TZOFFSETFROM:+0200
TZOFFSETTO:+0100
TZNAME:CET
DTSTART:20231029T010000
END:STANDARD
BEGIN:DAYLIGHT
TZOFFSETFROM:+0100
TZOFFSETTO:+0200
TZNAME:CEST
DTSTART:20240331T010000
END:DAYLIGHT
BEGIN:STANDARD
TZOFFSETFROM:+0200
TZOFFSETTO:+0100
TZNAME:CET
DTSTART:20241027T010000
END:STANDARD
BEGIN:DAYLIGHT
TZOFFSETFROM:+0100
TZOFFSETTO:+0200
TZNAME:CEST
DTSTART:20250330T010000
END:DAYLIGHT
BEGIN:STANDARD
TZOFFSETFROM:+0200
TZOFFSETTO:+0100
TZNAME:CET
DTSTART:20251026T010000
END:STANDARD
END:VTIMEZONE
BEGIN:VEVENT
DTSTART;TZID=Europe/Paris:20240205T000000
DTEND;TZID=Europe/Paris:20240209T235959
DTSTAMP:20260424T215519
CREATED:20240108T133905Z
LAST-MODIFIED:20240117T082111Z
UID:7137-1707091200-1707523199@www.awo-jugendwerk-lsa.de
SUMMARY:Zirkuswoche auf dem Bauernhof
DESCRIPTION:Was dich erwartet: \n\n\n\nDer Zirkus kommt in die Stadt. In diesen Ferien wollen wir wieder ein bisschen Zirkus machen. Du hast in dieser Woche die Möglichkeit verschiedene Zirkusdisziplinen\, wie Jonglieren\, Diabolo oder Kugellaufen kennen zu lernen und auszuprobieren.  \n\n\n\nWir verbringen die Woche auf dem Jugendbauernhof Deetz. Dort gibt es auch die Möglichkeit sich auf dem Hof umzuschauen und verschiedene Tiere zu entdecken.  \n\n\n\nNatürlich sind auch wieder verschiedene Spiele und Aktionen für die Woche geplant und du kannst gerne eigene Ideen und Wünsche einbringen. \n\n\n\nWir freuen uns auf dich!  \n\n\n\n \n\n\n\nWann:in den Winterferien vom05.- 09. Februar 2024(Montag – Freitag) \n\n\n\nWo:Europa Jugendbauernhof DeetzKurzes Ende 439264 Zerbst (Anhalt)Informationen zur Unterkunft findet ihrauch im Internet unter:https://www.herberge-zerbst.de \n\n\n\nWer:Kinder und Jugendlichezwischen 10 und 16 Jahren \n\n\n\nWieviel:60\,- Euro(Preis enthält Übernachtung\, Verpflegung\,Material und Honorar für die Referent*innen) \n\n\n\nAnmeldungen bitte bis spätestens19.01.2024 an:Bildung@AWO-Jugendwerk-LSA.deTel. 0391-40 82 90 90Landesjugendwerk der AWOSachsen-Anhalt e.V.Schönebecker Straße 82- 8439104 Magdeburg \n\n\n\nNach der Anmeldung versenden wir eine Bestätigung sowie weitere Informationen zu dieser Veranstaltung. \n\n\n\nDetaillierte Informationen kannst du dem Flyer entnehmen. \n\n\n\n\nJETZT ANMELDEN
URL:https://www.awo-jugendwerk-lsa.de/awowp/event/zirkuswoche-auf-dem-bauernhof/
END:VEVENT
BEGIN:VEVENT
DTSTART;TZID=Europe/Paris:20240216T160000
DTEND;TZID=Europe/Paris:20240218T150000
DTSTAMP:20260424T215519
CREATED:20231205T100003Z
LAST-MODIFIED:20240117T081903Z
UID:7125-1708099200-1708268400@www.awo-jugendwerk-lsa.de
SUMMARY:Jugendleiter*innen Ausbildung (JuLeiCa)
DESCRIPTION:Was dich erwartet:  \n\n\n\nDie Juleica ist ein bundesweit anerkannter Qualifizierungsnachweis für ehrenamtliche Mitarbeiter*innen in der Kinder- und Jugendarbeit. Im Grundkurs werden an zwei Wochenenden Kenntnisse zu folgenden Themen vermittelt:  \n\n\n\n\nAufgaben und Funktionen der  Jugendleiter*Innen und Befähigung zur Leitung von Gruppen \n\n\n\nPsychologische und pädagogische Grundlagen für die Arbeit mit Kindern und Jugendlichen \n\n\n\nKennenlernen von Gruppenspielen und Methoden \n\n\n\nJugendschutz und Gewaltprävention \n\n\n\nJugendkulturen und Projektmanagement \n\n\n\nUmgang mit grenzüberschreitendem Verhalten bei Ferienfreizeiten \n\n\n\nStrukturen der Jugendverbandsarbeit in Sachsen-Anhalt \n\n\n\n\n\n\nVoraussetzungen:  \n\n\n\nWichtig ist eure Teilnahme an beiden  Wochenenden.  Um die Jugendleitercard beantragen zu  können\, müsst ihr auch einen Erste-Hilfe-Kurs  im Umfang von 9 Unterrichtseinheiten  nachweisen. Dieser kann auch noch nach der  Juleica-Ausbildung absolviert werden. Gerne  helfen wir euch dabei\, die passende Erste-  Hilfe-Schulung zu finden.  \n\n\n\nWann:  \n\n\n\nModul 1: 16.-18.02.2024 Modul 2: 23.-25.02.2024Jeweils Freitag 16:00 Uhr bis Sonntag 15:00 Uhr \n\n\n\n  \n\n\n\nWo: \n\n\n\nParkhotel des CVJM Schönebeck Immermannstr. 12 39218 Schönebeck-Salzelmen  \n\n\n\nWer:  \n\n\n\nJugendliche und junge Erwachsene ab 16 Jahren  \n\n\n\nWieviel:  \n\n\n\n20\,- Euro  (Preis beinhaltet Übernachtung und Verpflegung)  \n\n\n\nAnmeldungen bis spätestens 15.01.2024 unter:  Bildung@AWO-Jugendwerk-LSA.de  oder  0151-10956684 (gern auch per WhatsApp oder Signal)  Landesjugendwerk der AWO Sachsen-Anhalt e.V. Schönebecker Straße 82- 84 39104 Magdeburg  Nach der Anmeldung versenden wir eine Bestätigung sowie weitere Informationen zu diesem Seminar.  Hauptverantwortlich für die Planung und Durchführung der Veranstaltung ist unsere Jugendbildungsreferentin Kirsten Vogt.  Weitere Informationen zur Juleica findet  ihr ins unserem Flyer und unter www.juleica.de \n\n\n\n\nJETZT ANMELDEN\n\n\n\n\n 
URL:https://www.awo-jugendwerk-lsa.de/awowp/event/jugendleiterinnen-ausbildung/
END:VEVENT
END:VCALENDAR