BEGIN:VCALENDAR
VERSION:2.0
PRODID:-//Landesjugendwerk der AWO Sachsen-Anhalt e.V. - ECPv6.15.20//NONSGML v1.0//EN
CALSCALE:GREGORIAN
METHOD:PUBLISH
X-WR-CALNAME:Landesjugendwerk der AWO Sachsen-Anhalt e.V.
X-ORIGINAL-URL:https://www.awo-jugendwerk-lsa.de/awowp
X-WR-CALDESC:Veranstaltungen für Landesjugendwerk der AWO Sachsen-Anhalt e.V.
REFRESH-INTERVAL;VALUE=DURATION:PT1H
X-Robots-Tag:noindex
X-PUBLISHED-TTL:PT1H
BEGIN:VTIMEZONE
TZID:Europe/Paris
BEGIN:DAYLIGHT
TZOFFSETFROM:+0100
TZOFFSETTO:+0200
TZNAME:CEST
DTSTART:20220327T010000
END:DAYLIGHT
BEGIN:STANDARD
TZOFFSETFROM:+0200
TZOFFSETTO:+0100
TZNAME:CET
DTSTART:20221030T010000
END:STANDARD
BEGIN:DAYLIGHT
TZOFFSETFROM:+0100
TZOFFSETTO:+0200
TZNAME:CEST
DTSTART:20230326T010000
END:DAYLIGHT
BEGIN:STANDARD
TZOFFSETFROM:+0200
TZOFFSETTO:+0100
TZNAME:CET
DTSTART:20231029T010000
END:STANDARD
BEGIN:DAYLIGHT
TZOFFSETFROM:+0100
TZOFFSETTO:+0200
TZNAME:CEST
DTSTART:20240331T010000
END:DAYLIGHT
BEGIN:STANDARD
TZOFFSETFROM:+0200
TZOFFSETTO:+0100
TZNAME:CET
DTSTART:20241027T010000
END:STANDARD
END:VTIMEZONE
BEGIN:VEVENT
DTSTART;TZID=Europe/Paris:20231016T000000
DTEND;TZID=Europe/Paris:20231020T235959
DTSTAMP:20260425T031734
CREATED:20230802T094733Z
LAST-MODIFIED:20230828T094206Z
UID:7081-1697414400-1697846399@www.awo-jugendwerk-lsa.de
SUMMARY:Umwelt- und Kreativwoche
DESCRIPTION:Was dich erwartet \n\n\n\nAus der Natur kommen wir und in die Natur gehen wir zurück. \n\n\n\nDie meisten Menschen vergessen im stressigen Alltag hin und wieder die Bedeutung unserer natürlichen Umwelt. Sie spendet uns nicht nur unser wertvolles Lebensexilier – den Sauerstoff. Sie kann uns sehr viel mehr bieten. In dieser Woche wollen wir gemeinsam entdecken\, was wir von der Natur lernen können und welche wertvollen Schätze sie für uns bereithält. Was sind die Folgen unseres konsumorientierten Lebensstils und wie können wir verantwortungsvoll mit den natürlich vorkommenden Ressourcen umgehen? \n\n\n\nNeben Spiel und Spaß erwarten dich in dieser Woche eine Wanderung auf den Brocken und ein Besuch auf dem Schloss Wernigerode. \n\n\n\n\n\n\n\nWann:in den Herbstferien vom16.-20. Oktober 2022(Montag – Freitag) \n\n\n\nWo:Jugendherberge Wernigerode Am Eichberg 528855 WernigerodeInformationen zur Unterkunft findet ihrauch im Internet unter:https://www.jugendherberge.de/ jugendherbergen/wernigerode/ \n\n\n\nWer:Kinder und Jugendlichezwischen 10 und 16 Jahren \n\n\n\nWieviel:60\,- Euro(Preis enthält Übernachtung\, Verpflegung\,Material und Honorar für die Referent*innen) \n\n\n\nAnmeldungen bitte bis spätestens15.09.2022 an:Bildung@AWO-Jugendwerk-LSA.deTel. 0391-40 82 90 90Landesjugendwerk der AWOSachsen-Anhalt e.V.Schönebecker Straße 82- 8439104 Magdeburg \n\n\n\nNach der Anmeldung versenden wir eine Bestätigung sowie weitere Informationen zu dieser Veranstaltung. \n\n\n\nDetaillierte Informationen kannst du dem Flyer entnehmen. \n\n\n\nDerzeit sind leider alle Plätze belegt. Du kannst dich unten trotzdem gerne für die Warteliste anmelden.
URL:https://www.awo-jugendwerk-lsa.de/awowp/event/umwelt-und-kreativwoche/
END:VEVENT
END:VCALENDAR